BEGIN:VCALENDAR
VERSION:2.0
PRODID:-//「眾膳坊」食物銀行 | People’s Food Bank - ECPv5.3.2.1//NONSGML v1.0//EN
CALSCALE:GREGORIAN
METHOD:PUBLISH
X-WR-CALNAME:「眾膳坊」食物銀行 | People’s Food Bank
X-ORIGINAL-URL:https://foodbanksjs.azurewebsites.net
X-WR-CALDESC:Events for 「眾膳坊」食物銀行 | People’s Food Bank
BEGIN:VTIMEZONE
TZID:Asia/Shanghai
BEGIN:STANDARD
TZOFFSETFROM:+0800
TZOFFSETTO:+0800
TZNAME:CST
DTSTART:20260101T000000
END:STANDARD
END:VTIMEZONE
BEGIN:VEVENT
DTSTART;VALUE=DATE:20260422
DTEND;VALUE=DATE:20260423
DTSTAMP:20260422T201918
CREATED:20260422T080323Z
LAST-MODIFIED:20260422T081445Z
UID:10285-1776816000-1776902399@foodbanksjs.azurewebsites.net
SUMMARY:有關部份惠康食物券未能使用情況的通告Notice on the Unavailability of Partial Wellcome Food Coupons
DESCRIPTION:有關部份惠康食物券未能使用情況的通告 \n\n本中心接獲部份服務使用者反映，於今天 (2026年4月22日) 惠顧惠康超市時，食物券未能成功使用的情況。 \n中心已即時就有關情況聯絡惠康作出跟進，現正等候回覆未能使用的原因及相關安排。中心會於收到回覆後，盡快向各位服務使用者發放最新資料。 \n不便之處，敬請見諒。 \n如有查詢，歡迎與中心職員聯絡。 \n聖雅各福群會 \n短期食物援助服務隊啟 \n\n\nNotice on the Unavailability of Partial Wellcome Food Coupons\nThe Centre has received reports from some service users that food coupons could not be successfully used when shopping at Wellcome Supermarket today (22 April 2026). \nThe Centre has immediately contacted Wellcome to follow up on the situation and is currently awaiting their reply regarding the cause of the issue and the related arrangements. The Centre will share the latest information with service users as soon as a response is received. \nWe apologise for any inconvenience caused and thank you for your understanding. \nIf you have any enquiries\, please feel free to contact us. \nSt. James’ Settlement\nShort-term Food Assistance Service Team
URL:https://foodbanksjs.azurewebsites.net/event/%e6%9c%89%e9%97%9c%e9%83%a8%e4%bb%bd%e6%83%a0%e5%ba%b7%e9%a3%9f%e7%89%a9%e5%88%b8%e6%9c%aa%e8%83%bd%e4%bd%bf%e7%94%a8%e6%83%85%e6%b3%81%e7%9a%84%e9%80%9a%e5%91%8a/
END:VEVENT
END:VCALENDAR